BEGIN:VCALENDAR
VERSION:2.0
PRODID:-//The Talent Management Collective - ECPv6.15.20//NONSGML v1.0//EN
CALSCALE:GREGORIAN
METHOD:PUBLISH
X-WR-CALNAME:The Talent Management Collective
X-ORIGINAL-URL:https://tmcollective.community
X-WR-CALDESC:Events for The Talent Management Collective
REFRESH-INTERVAL;VALUE=DURATION:PT1H
X-Robots-Tag:noindex
X-PUBLISHED-TTL:PT1H
BEGIN:VTIMEZONE
TZID:America/New_York
BEGIN:DAYLIGHT
TZOFFSETFROM:-0500
TZOFFSETTO:-0400
TZNAME:EDT
DTSTART:20220313T070000
END:DAYLIGHT
BEGIN:STANDARD
TZOFFSETFROM:-0400
TZOFFSETTO:-0500
TZNAME:EST
DTSTART:20221106T060000
END:STANDARD
BEGIN:DAYLIGHT
TZOFFSETFROM:-0500
TZOFFSETTO:-0400
TZNAME:EDT
DTSTART:20230312T070000
END:DAYLIGHT
BEGIN:STANDARD
TZOFFSETFROM:-0400
TZOFFSETTO:-0500
TZNAME:EST
DTSTART:20231105T060000
END:STANDARD
BEGIN:DAYLIGHT
TZOFFSETFROM:-0500
TZOFFSETTO:-0400
TZNAME:EDT
DTSTART:20240310T070000
END:DAYLIGHT
BEGIN:STANDARD
TZOFFSETFROM:-0400
TZOFFSETTO:-0500
TZNAME:EST
DTSTART:20241103T060000
END:STANDARD
BEGIN:DAYLIGHT
TZOFFSETFROM:-0500
TZOFFSETTO:-0400
TZNAME:EDT
DTSTART:20250309T070000
END:DAYLIGHT
BEGIN:STANDARD
TZOFFSETFROM:-0400
TZOFFSETTO:-0500
TZNAME:EST
DTSTART:20251102T060000
END:STANDARD
END:VTIMEZONE
BEGIN:VEVENT
DTSTART;TZID=America/New_York:20241009T180000
DTEND;TZID=America/New_York:20241009T200000
DTSTAMP:20260424T042003
CREATED:20240801T193105Z
LAST-MODIFIED:20240904T211020Z
UID:10000101-1728496800-1728504000@tmcollective.community
SUMMARY:TMC Lynx Collective Mixer
DESCRIPTION:Come join TMC members in a special social event with members of the Lynx Collective. \nThe Lynx Collective is a membership community for early-stage tech start-up founders. Interested TMC members can explore opportunities to advise early stage companies on talent management and serve on product panels. Seating is limited for this event\, so grab a spot asap. \n  \n\n\n	Related
URL:https://tmcollective.community/event/tmc-tribeca-happy-hour/
LOCATION:Spring Place\, 6 St Johns Lane\, New York\, NY\, 10013\, United States
ATTACH;FMTTYPE=image/jpeg:https://tmcollective.community/wp-content/uploads/2024/08/IMG_2462.jpeg
ORGANIZER;CN="TMC Community":MAILTO:info@tmcollective.community
END:VEVENT
BEGIN:VEVENT
DTSTART;TZID=America/New_York:20240924T173000
DTEND;TZID=America/New_York:20240924T193000
DTSTAMP:20260424T042003
CREATED:20240904T192340Z
LAST-MODIFIED:20240904T212058Z
UID:10000108-1727199000-1727206200@tmcollective.community
SUMMARY:TMC End of Summer Happy Hour
DESCRIPTION:Come join TMC members and Faculty for an end of summer happy hour at the rooftop (weather pending) of the private club Spring Place in TriBeCa from 5:30 PM to 7:30 PM. We hope to see you there! \n  \n\n\n	Related
URL:https://tmcollective.community/event/tmc-end-of-summer-happy-hour/
LOCATION:Spring Place\, 6 St Johns Lane\, New York\, NY\, 10013\, United States
CATEGORIES:In Person Meetup
ATTACH;FMTTYPE=image/jpeg:https://tmcollective.community/wp-content/uploads/2024/08/IMG_2462.jpeg
ORGANIZER;CN="TMC Community":MAILTO:info@tmcollective.community
END:VEVENT
BEGIN:VEVENT
DTSTART;TZID=America/New_York:20240724T173000
DTEND;TZID=America/New_York:20240724T193000
DTSTAMP:20260424T042003
CREATED:20240627T140418Z
LAST-MODIFIED:20240708T142438Z
UID:10000092-1721842200-1721849400@tmcollective.community
SUMMARY:TMC Summer Happy Hour
DESCRIPTION:Come join TMC members and Faculty for a summer happy hour at the rooftop of the private club Spring Place in TriBeCa from 5:30 PM to 7:30 PM. We hope to see you there! \n\n\n	Related
URL:https://tmcollective.community/event/tmc-summer-happy-hour/
LOCATION:Spring Place\, 6 St Johns Lane\, New York\, NY\, 10013\, United States
CATEGORIES:In Person Meetup
ATTACH;FMTTYPE=image/jpeg:https://tmcollective.community/wp-content/uploads/2024/06/Spring-Place-Rooftop.jpg
ORGANIZER;CN="TMC Community":MAILTO:info@tmcollective.community
END:VEVENT
BEGIN:VEVENT
DTSTART;TZID=America/New_York:20231211T173000
DTEND;TZID=America/New_York:20231211T203000
DTSTAMP:20260424T042003
CREATED:20231115T181430Z
LAST-MODIFIED:20231209T203131Z
UID:10000025-1702315800-1702326600@tmcollective.community
SUMMARY:TMC NYC Happy Hour & Dinner 12/11
DESCRIPTION:Come join TMC members and Faculty for drinks at Roxy Bar in TriBeCa (2 6th Avenue) from 5:30 PM to 7:30 PM. For those who would like to have dinner afterwards\, we will walk two minutes to Casa Carmen (114 Franklin St) for delicious Mexican food. If you would like to just join for dinner\, our reservations are for 7:30 PM. \n\n\n	Related
URL:https://tmcollective.community/event/tmc-nyc-happy-hour-dinner-12-11/
LOCATION:Spring Place\, 6 St Johns Lane\, New York\, NY\, 10013\, United States
CATEGORIES:In Person Meetup
ORGANIZER;CN="TMC Community":MAILTO:info@tmcollective.community
END:VEVENT
BEGIN:VEVENT
DTSTART;TZID=America/New_York:20231115T173000
DTEND;TZID=America/New_York:20231115T203000
DTSTAMP:20260424T042003
CREATED:20231105T183002Z
LAST-MODIFIED:20231105T183002Z
UID:10000024-1700069400-1700080200@tmcollective.community
SUMMARY:TMC NYC Happy Hour & Dinner
DESCRIPTION:Come join TMC members and Faculty for drinks at the bar of the private club Spring Place in TriBeCa from 5:30 PM to 7:15 PM. For those who would like to have dinner afterwards\, we will walk ten minutes to Chinatown and dine at August Gatherings (266 Canal Street). If you would like to just join for dinner\, our reservations are for 7:30 PM.  \n\n\n	Related
URL:https://tmcollective.community/event/tmc-nyc-happy-hour-dinner/
LOCATION:Spring Place\, 6 St Johns Lane\, New York\, NY\, 10013\, United States
CATEGORIES:In Person Meetup
ORGANIZER;CN="TMC Community":MAILTO:info@tmcollective.community
END:VEVENT
END:VCALENDAR